BEGIN:VCALENDAR
VERSION:2.0
PRODID:-//ChamberMaster//Event Calendar 2.0//EN
METHOD:PUBLISH
X-PUBLISHED-TTL:P3D
REFRESH-INTERVAL:P3D
CALSCALE:GREGORIAN
BEGIN:VEVENT
DTSTART:20190223T010000Z
DTEND:20190223T050000Z
X-MICROSOFT-CDO-ALLDAYEVENT:FALSE
SUMMARY:Annual Crab Feed at Atascadero Elks Lodge
DESCRIPTION:SLO County Builders Exchange Member Event\n\n\n\nAnnual Crab Feed & Vendor Night\n\n(All you can eat)\n\nThis event sells out quickly -book today!\n\n	Cocktails \n	No Host Bar\n	Silent Auction \n	Drawings\n	Prizes\n\nHelp us raise funds for our Scholarship fund during our BIGGEST event of the year.  We have given close to $120\,000 in scholarships to our members/employees/children seeking to pursue a career in the Construction Industry. \n\nSPONSORS FOR THE EVENT ARE NEEDED!
X-ALT-DESC;FMTTYPE=text/html:SLO County Builders Exchange Member Event<br />\n<br />\nAnnual&nbsp\;Crab Feed &amp\; Vendor Night<br />\n(All you can eat)<br />\nThis event sells out quickly -book today!\n<ul>\n	<li><span style="background-color:rgb(255\, 255\, 255)\; color:rgb(51\, 51\, 51)\; font-family:sans-serif\,arial\,verdana\,trebuchet ms\; font-size:13px">Cocktails </span></li>\n	<li><span style="background-color:rgb(255\, 255\, 255)\; color:rgb(51\, 51\, 51)\; font-family:sans-serif\,arial\,verdana\,trebuchet ms\; font-size:13px">No Host Bar</span></li>\n	<li><span style="background-color:rgb(255\, 255\, 255)\; color:rgb(51\, 51\, 51)\; font-family:sans-serif\,arial\,verdana\,trebuchet ms\; font-size:13px">Silent Auction&nbsp\;</span></li>\n	<li><span style="background-color:rgb(255\, 255\, 255)\; color:rgb(51\, 51\, 51)\; font-family:sans-serif\,arial\,verdana\,trebuchet ms\; font-size:13px">Drawings</span></li>\n	<li><span style="background-color:rgb(255\, 255\, 255)\; color:rgb(51\, 51\, 51)\; font-family:sans-serif\,arial\,verdana\,trebuchet ms\; font-size:13px">Prizes</span></li>\n</ul>\nHelp us raise funds for our Scholarship fund during our BIGGEST event of the year. &nbsp\;We have given close to $120\,000 in scholarships to our members/employees/children seeking to pursue a career in the Construction Industry.&nbsp\;\n\n<div style="text-align: center\;"><span style="font-size:20px"><strong>SPONSORS FOR THE EVENT ARE NEEDED!&nbsp\;</strong></span></div>\n<br />\n<br />\n&nbsp\;
LOCATION:Elks Lodge #2733 1516 El Camino Real Atascadero\, CA
UID:e.2488.9655
SEQUENCE:3
DTSTAMP:20260421T003118Z
URL:https://pasorobleschamber-gzcms.preview.gochambermaster.com/events/details/annual-crab-feed-at-atascadero-elks-lodge-9655
END:VEVENT

END:VCALENDAR
