BEGIN:VCALENDAR
VERSION:2.0
PRODID:-//ChamberMaster//Event Calendar 2.0//EN
METHOD:PUBLISH
X-PUBLISHED-TTL:P3D
REFRESH-INTERVAL:P3D
CALSCALE:GREGORIAN
BEGIN:VEVENT
DTSTART:20180810T010000Z
DTEND:20180810T030000Z
X-MICROSOFT-CDO-ALLDAYEVENT:FALSE
SUMMARY:Concerts in the park
DESCRIPTION:Connect Home Loans is proud to co-sponser Concerts in the Park. Come out and join us as we enjoy the classic piano rock of 'The Kings of 88' on Thursday\, August 9\, 2018.  See you in the park!
X-ALT-DESC;FMTTYPE=text/html:Connect Home Loans is proud to co-sponser Concerts in the Park. Come out and join us as we enjoy the classic piano rock of &#39\;The Kings of 88&#39\; on Thursday\, August 9\, 2018.&nbsp\; See you in the park!&nbsp\;
LOCATION:
UID:e.2488.9495
SEQUENCE:3
DTSTAMP:20260421T170334Z
URL:https://pasorobleschamber-gzcms.preview.gochambermaster.com/events/details/concerts-in-the-park-9495
END:VEVENT

END:VCALENDAR
