BEGIN:VCALENDAR
VERSION:2.0
PRODID:-//ChamberMaster//Event Calendar 2.0//EN
METHOD:PUBLISH
X-PUBLISHED-TTL:P3D
REFRESH-INTERVAL:P3D
CALSCALE:GREGORIAN
BEGIN:VEVENT
DTSTART:20160722T023000Z
DTEND:20160722T043000Z
X-MICROSOFT-CDO-ALLDAYEVENT:FALSE
SUMMARY:Festival Mozaic CHAMBER Series: Scott Yoo and Friends
DESCRIPTION:Weber's charming and operatic Clarinet Quintet sets the stage for Berg's 20th century Chamber Concerto\, a melodic and virtuosic masterwork for solo piano and violin\, accompanied by 13 winds. Rounding out the program is the perennial favorite "Trout" Quintet of Schubert\, one of Mahler's earliest influences\, which adds the double bass to the standard piano quartet for maximum sound and depth. ? CARL MARIA VON WEBER - Clarinet Quintet in B-flat\, op. 34 Romie de Guise-Langlois\, clarinet\; Jason Uyeyama\, Erik Arvinder\, violins\; Caitlin Lynch\, viola\; Kristina Reiko Cooper\, cello ? ALBAN BERG - Chamber Concerto Steven Copes\, solo violin\; John Novacek\, solo piano\; Scott Yoo\, conductor ? FRANZ SCHUBERT - Piano Quintet in A major\, D. 667 "Trout" Grace Park\, violin\; Ben Ullery\, viola\; Madeleine Kabat\, cello\; Susan Cahill\, double bass\; Noam Elkies\, piano
X-ALT-DESC;FMTTYPE=text/html:Weber&#39\;s charming and operatic Clarinet Quintet sets the stage for Berg&#39\;s 20th century Chamber Concerto\, a melodic and virtuosic masterwork for solo piano and violin\, accompanied by 13 winds. Rounding out the program is the perennial favorite &quot\;Trout&quot\; Quintet of Schubert\, one of Mahler&#39\;s earliest influences\, which adds the double bass to the standard piano quartet for maximum sound and depth. ? CARL MARIA VON WEBER - Clarinet Quintet in B-flat\, op. 34 Romie de Guise-Langlois\, clarinet\; Jason Uyeyama\, Erik Arvinder\, violins\; Caitlin Lynch\, viola\; Kristina Reiko Cooper\, cello ? ALBAN BERG - Chamber Concerto Steven Copes\, solo violin\; John Novacek\, solo piano\; Scott Yoo\, conductor ? FRANZ SCHUBERT - Piano Quintet in A major\, D. 667 &quot\;Trout&quot\; Grace Park\, violin\; Ben Ullery\, viola\; Madeleine Kabat\, cello\; Susan Cahill\, double bass\; Noam Elkies\, piano
LOCATION:Cuesta College Cultural and Performing Arts Center Highway 1 at Hollister Road San Luis Obispo\, CA 93403
UID:e.2488.4716
SEQUENCE:3
DTSTAMP:20260424T134226Z
URL:https://pasorobleschamber-gzcms.preview.gochambermaster.com/events/details/festival-mozaic-chamber-series-scott-yoo-and-friends-07-21-2016-4716
END:VEVENT

END:VCALENDAR
