BEGIN:VCALENDAR
VERSION:2.0
PRODID:-//ChamberMaster//Event Calendar 2.0//EN
METHOD:PUBLISH
X-PUBLISHED-TTL:P3D
REFRESH-INTERVAL:P3D
CALSCALE:GREGORIAN
BEGIN:VEVENT
DTSTART:20170407T190000Z
DTEND:20170408T000000Z
X-MICROSOFT-CDO-ALLDAYEVENT:FALSE
SUMMARY:First Fridays on the Creston Wine Trail
DESCRIPTION:The Creston Wine Trail invites you to spend First Fridays with us. We're a great way to kick off the weekend with Special Wine & Food Pairings and new releases on the First Friday of every month during our regular tasting room hours. Here is taste of what we're planning: Olivas de Oro- Savory nuts with a balsamic glaze & case specials Shadow Run- New release of Moon Shadow a 2015 Grenache Blanc and cheese pairing Chateau Margene- Marich chocolate with Roxo Port August Ridge- New release of our 2016 Pinot Grigio paired with springtime scone B & E- Cheese & Summer Sausage Still Waters- Homemade chocolate chip cookies Stanger- Memorable visit with owner and signed bottle Please mention "First Friday" when stopping at any of the Creston Wine Trail Locations.
X-ALT-DESC;FMTTYPE=text/html:The Creston Wine Trail invites you to spend First Fridays with us. We&rsquo\;re a great way to kick off the weekend with Special Wine &amp\; Food Pairings and new releases on the First Friday of every month during our regular tasting room hours. Here is taste of what we&#39\;re planning: Olivas de Oro- Savory nuts with a balsamic glaze &amp\; case specials Shadow Run- New release of Moon Shadow a 2015 Grenache Blanc and cheese pairing Chateau Margene- Marich chocolate with Roxo Port August Ridge- New release of our 2016 Pinot Grigio paired with springtime scone B &amp\; E- Cheese &amp\; Summer Sausage Still Waters- Homemade chocolate chip cookies Stanger- Memorable visit with owner and signed bottle Please mention &quot\;First Friday&quot\; when stopping at any of the Creston Wine Trail Locations.
LOCATION:Olivas de Oro 4625 La Panza Road Creston\, CA 93432
UID:e.2488.6403
SEQUENCE:3
DTSTAMP:20260423T204325Z
URL:https://pasorobleschamber-gzcms.preview.gochambermaster.com/events/details/first-fridays-on-the-creston-wine-trail-04-07-2017-6403
END:VEVENT

END:VCALENDAR
