BEGIN:VCALENDAR
VERSION:2.0
PRODID:-//ChamberMaster//Event Calendar 2.0//EN
METHOD:PUBLISH
X-PUBLISHED-TTL:P3D
REFRESH-INTERVAL:P3D
CALSCALE:GREGORIAN
BEGIN:VEVENT
DTSTART;VALUE=DATE:20161030
DTEND;VALUE=DATE:20161031
TRANSP:TRANSPARENT
X-MICROSOFT-CDO-ALLDAYEVENT:TRUE
SUMMARY:Harvest Marathon
DESCRIPTION:The 7th Annual Harvest Marathon will again start at the beautiful Le Vigne Winery.  The marathon/half marathon/5K courses wind their way through the beautiful vineyards during harvest time.  \n\n\n\nNew this year:  \n\n	Cash prizes for the top overall finishers\n	Bottle of wine for top finishers in each age group\n	Saturday night pasta feed in the park\n\n\n\nAll proceeds benefit PRHS Bearcats Athletics.  \n\n\n\nPlease visit our website for more information:  http://harvestmarathon.com/ follow us on Twitter and Facebook @harvestmarathon
X-ALT-DESC;FMTTYPE=text/html:The 7th Annual Harvest Marathon will again start at the beautiful Le Vigne Winery. &nbsp\;The marathon/half marathon/5K courses wind their way through the beautiful vineyards during harvest time. &nbsp\;<br />\n<br />\nNew this year: &nbsp\;\n<ul>\n	<li>Cash prizes for the top overall finishers</li>\n	<li>Bottle of wine for top finishers in each age group</li>\n	<li>Saturday night pasta feed in the park</li>\n</ul>\n<br />\nAll proceeds benefit PRHS Bearcats Athletics. &nbsp\;<br />\n<br />\nPlease visit our website for more information: &nbsp\;<a href="http://harvestmarathon.com/">http://harvestmarathon.com/</a> follow us on <a href="https://twitter.com/harvestmarathon">Twitter</a> and <a href="https://www.facebook.com/harvestmarathon/">Facebook</a> @harvestmarathon
LOCATION:Le Vigne Winery
UID:e.2488.4809
SEQUENCE:3
DTSTAMP:20260424T074619Z
URL:https://pasorobleschamber-gzcms.preview.gochambermaster.com/events/details/harvest-marathon-10-30-2016-4809
END:VEVENT

END:VCALENDAR
