BEGIN:VCALENDAR
VERSION:2.0
PRODID:-//ChamberMaster//Event Calendar 2.0//EN
METHOD:PUBLISH
X-PUBLISHED-TTL:P3D
REFRESH-INTERVAL:P3D
CALSCALE:GREGORIAN
BEGIN:VEVENT
DTSTART:20190325T010000Z
DTEND:20190325T040000Z
X-MICROSOFT-CDO-ALLDAYEVENT:FALSE
SUMMARY:Hearst Ranch Winery Winemaker Dinner @ Oceanpoint Ranch Cambria
DESCRIPTION:Indulge in a five-course meal by Chef Thomas Drahos\, paired perfectly with your favorite Hearst Ranch wines. Dinner will be held at The Canteen at Oceanpoint Ranch in Cambria on Sunday March 24th at 6pm. We hope to see you there!
X-ALT-DESC;FMTTYPE=text/html:<p><span style="color:rgb(78\, 78\, 78)\; font-family:cardo-regular\,sans-serif\; font-size:14px">Indulge in a five-course meal by Chef Thomas Drahos\, paired perfectly with your favorite Hearst Ranch wines. Dinner will be held at The Canteen at Oceanpoint Ranch&nbsp\;in Cambria on Sunday March 24th at 6pm.&nbsp\;We hope to see you there!&nbsp\;</span></p>\n
LOCATION:The Canteen at Oceanpoint Ranch in Cambria 7200 Moonstone Beach Dr\, Cambria\, CA 93428
UID:e.2488.9781
SEQUENCE:3
DTSTAMP:20260420T231502Z
URL:https://pasorobleschamber-gzcms.preview.gochambermaster.com/events/details/hearst-ranch-winery-winemaker-dinner-oceanpoint-ranch-cambria-9781
END:VEVENT

END:VCALENDAR
