BEGIN:VCALENDAR
VERSION:2.0
PRODID:-//ChamberMaster//Event Calendar 2.0//EN
METHOD:PUBLISH
X-PUBLISHED-TTL:P3D
REFRESH-INTERVAL:P3D
CALSCALE:GREGORIAN
BEGIN:VEVENT
DTSTART:20171209T190000Z
DTEND:20171211T010000Z
X-MICROSOFT-CDO-ALLDAYEVENT:FALSE
SUMMARY:Holiday on the Trail
DESCRIPTION:You're Invited for Tastes\, Treats and Crafts\n\nAlong the Pleasant Valley Wine Trail\n\n\n\nBon Niche - Yummy Cookie Decorating and Hand Crafted Gifts Boutique\n\nCinquain Cellars - Make a Grapevine Wreath Workshop and Holiday Craft Faire\n\nFour Sisters Ranch - Assorted Gourmet Grilled Sausages Paired with 2014 Sangiovese\n\nGraveyard - Decorate the Gingerbread House\, Enjoy Cookies\, Gifts and Taste New Vintages\n\nJ&J Cellars - Serving Smoked Brisket Chili\n\nHartley Farms - Snickerdoodles Paired with Hartley Farms' Raspberry Jam with Nutmeg\n\nLocatelli - Hearty Beef Stew with Homemade Bread Paired with Cabernet Sauvignon\n\nMystic Hills - Offering Wine\, Delicious Treats and Holiday Gifts\n\nP.S. Cellars - Gourmet & Artisan Marketplace | Recipe Book Signing | "Pretty Eats" Pairings\n\nRanchita Canyon - Swedish Meatballs Paired with "Divin" Bordeaux Blend\n\nRiverstar - Holiday Pop-up Boutique Showcasing Local Artists\n\nSan Marcos Creek - Italian Sausage and Peppers with Garlic Bread Paired with Nebbiolo\n\nTackitt Family - Christmas Cookies and Toy Donations for Toys for Tots
X-ALT-DESC;FMTTYPE=text/html:<div style="text-align:center"><span style="color:#8B4513"><strong><big>You&#39\;re Invited for Tastes\, Treats and Crafts<br />\nAlong the Pleasant Valley Wine Trail</big></strong></span><br />\n<br />\nBon Niche - Yummy Cookie Decorating and Hand Crafted Gifts Boutique<br />\nCinquain Cellars - Make a Grapevine Wreath Workshop and Holiday Craft Faire<br />\nFour Sisters Ranch - Assorted Gourmet Grilled Sausages Paired with 2014 Sangiovese<br />\nGraveyard - Decorate the Gingerbread House\, Enjoy Cookies\, Gifts and Taste New Vintages<br />\nJ&amp\;J Cellars - Serving Smoked Brisket Chili<br />\nHartley Farms - Snickerdoodles Paired with Hartley Farms&rsquo\; Raspberry Jam with Nutmeg<br />\nLocatelli - Hearty Beef Stew with Homemade Bread Paired with Cabernet Sauvignon<br />\nMystic Hills - Offering Wine\, Delicious Treats and Holiday Gifts<br />\nP.S. Cellars - Gourmet &amp\; Artisan Marketplace | Recipe Book Signing | &quot\;Pretty Eats&quot\; Pairings<br />\nRanchita Canyon - Swedish Meatballs Paired with &quot\;Divin&quot\; Bordeaux Blend<br />\nRiverstar - Holiday Pop-up Boutique Showcasing Local Artists<br />\nSan Marcos Creek - Italian Sausage and Peppers with Garlic Bread Paired with Nebbiolo<br />\nTackitt Family - Christmas Cookies and Toy Donations for Toys for Tots</div>\n
LOCATION:The Pleasant Valley Wine Trail\, San Miguel\, CA
UID:e.2488.6869
SEQUENCE:3
DTSTAMP:20260422T220745Z
URL:https://pasorobleschamber-gzcms.preview.gochambermaster.com/events/details/holiday-on-the-trail-6869
END:VEVENT

END:VCALENDAR
