BEGIN:VCALENDAR
VERSION:2.0
PRODID:-//ChamberMaster//Event Calendar 2.0//EN
METHOD:PUBLISH
X-PUBLISHED-TTL:P3D
REFRESH-INTERVAL:P3D
CALSCALE:GREGORIAN
BEGIN:VEVENT
DTSTART:20160501T010000Z
DTEND:20160501T040000Z
X-MICROSOFT-CDO-ALLDAYEVENT:FALSE
SUMMARY:IGGPRA April Social: Fiesta de Amigos
DESCRIPTION:IGGPRA?s April mixer Fiesta de Amigos at Four Sisters? Ranch in San Miguel\, April 30\, from 6 ?9pm. ? Taco Bar ? Live Mariachi ? Salsa and Guacamole Competition ? Spanish Wine Share/Tasting (bring your favorite to share) REGISTER ONLINE AT WWW.IGGPRA.COM or CALL 310-795-7263
X-ALT-DESC;FMTTYPE=text/html:IGGPRA?s April mixer Fiesta de Amigos at Four Sisters? Ranch in San Miguel\, April 30\, from 6 ?9pm. ? Taco Bar ? Live Mariachi ? Salsa and Guacamole Competition ? Spanish Wine Share/Tasting (bring your favorite to share) REGISTER ONLINE AT WWW.IGGPRA.COM or CALL 310-795-7263
LOCATION:Four Sisters Ranch and Vineyard 2995 Pleasant Rd\, San Miguel\, CA
UID:e.2488.4684
SEQUENCE:3
DTSTAMP:20260424T154927Z
URL:https://pasorobleschamber-gzcms.preview.gochambermaster.com/events/details/iggpra-april-social-fiesta-de-amigos-04-30-2016-4684
END:VEVENT

END:VCALENDAR
