BEGIN:VCALENDAR
VERSION:2.0
PRODID:-//ChamberMaster//Event Calendar 2.0//EN
METHOD:PUBLISH
X-PUBLISHED-TTL:P3D
REFRESH-INTERVAL:P3D
CALSCALE:GREGORIAN
BEGIN:VEVENT
DTSTART:20170225T180000Z
DTEND:20170227T000000Z
X-MICROSOFT-CDO-ALLDAYEVENT:FALSE
SUMMARY:Inspired Home\, Garden & Gourmet Expo of Paso Robles
DESCRIPTION:February 25 & 26\, 2017 at the Paso Robles Event Center! Saturday 10am-5pm Sunday 10am-4pm Meet over 100 experts to complete your projects! Judge the Tastebuds Best Chef Competition   Saturday   1pm-3pm Enter to win a Santa Maria Style BBQ! Sip\, Savor and Support The Wellness Kitchen by wine tasting! Attend Cooking Demonstrations to learn a new dish! Enjoy ongoing demonstrations from exhibiting businesses in their booths! Wine & Gourmet Food Garden with local wineries & restaurants!
X-ALT-DESC;FMTTYPE=text/html:February 25 &amp\; 26\, 2017 at the Paso Robles Event Center! Saturday 10am-5pm Sunday 10am-4pm Meet over 100 experts to complete your projects! Judge the Tastebuds Best Chef Competition &ndash\; Saturday &ndash\; 1pm-3pm Enter to win a Santa Maria Style BBQ! Sip\, Savor and Support The Wellness Kitchen by wine tasting! Attend Cooking Demonstrations to learn a new dish! Enjoy ongoing demonstrations from exhibiting businesses in their booths! Wine &amp\; Gourmet Food Garden with local wineries &amp\; restaurants!
LOCATION:Paso Robles Event Center: 2198 Riverside Road\, Paso Robles CA.
UID:e.2488.6094
SEQUENCE:3
DTSTAMP:20260423T232410Z
URL:https://pasorobleschamber-gzcms.preview.gochambermaster.com/events/details/inspired-home-garden-gourmet-expo-of-paso-robles-6094
END:VEVENT

END:VCALENDAR
