BEGIN:VCALENDAR
VERSION:2.0
PRODID:-//ChamberMaster//Event Calendar 2.0//EN
METHOD:PUBLISH
X-PUBLISHED-TTL:P3D
REFRESH-INTERVAL:P3D
CALSCALE:GREGORIAN
BEGIN:VEVENT
DTSTART:20190131T180000Z
DTEND:20190201T010000Z
X-MICROSOFT-CDO-ALLDAYEVENT:FALSE
SUMMARY:January Is Locals Month At Calcareous Vineyard
DESCRIPTION:SLO County locals: this one's for you!\n\nSLO County residents enjoy a complimentary wine tasting* at Calcareous Vineyard throughout the month of January.\n\nTasting Room open 7 days per week\, 10-5pm\n\nLunch available for purchase Sat & Sun\, 12-3pm\n\n*Local's Special valid January 4\, 2019 through January 31\, 2019. Offer cannot be combined with any other promotions or discounts and is not valid on Seated Wine and Cheese Pairings\, Premier Tours with Artisan Cheese Pairings\, or Wine and Food Pairings.
X-ALT-DESC;FMTTYPE=text/html:<p><span style="color:rgb(0\, 0\, 0)\; font-family:georgia\,palatino\; font-size:large">SLO County locals: this one&#39\;s for you!</span></p>\n\n<p><span style="color:rgb(0\, 0\, 0)\; font-family:georgia\,palatino\; font-size:large">SLO County residents enjoy a complimentary wine tasting* at Calcareous Vineyard throughout the month of January.</span></p>\n\n<p><span style="color:rgb(0\, 0\, 0)\; font-family:georgia\,palatino\; font-size:small">Tasting Room open 7 days per week\, 10-5pm</span><br />\n<span style="color:rgb(0\, 0\, 0)\; font-family:georgia\,palatino\; font-size:small">Lunch available for purchase Sat &amp\; Sun\, 12-3pm</span></p>\n\n<p><span style="color:rgb(0\, 0\, 0)\; font-family:georgia\,palatino\; font-size:xx-small">*Local&#39\;s Special valid January 4\, 2019 through January 31\, 2019. Offer cannot be combined with any other promotions or discounts and is not valid on Seated Wine and Cheese Pairings\, Premier Tours with Artisan Cheese Pairings\, or Wine and Food Pairings.</span></p>\n
LOCATION:Calcareous Vineyard 3430 Peachy Canyon Rd Paso Robles\, CA 93446 805-239-0289
UID:e.2488.9686
SEQUENCE:3
DTSTAMP:20260421T033644Z
URL:https://pasorobleschamber-gzcms.preview.gochambermaster.com/events/details/january-is-locals-month-at-calcareous-vineyard-01-31-2019-9686
END:VEVENT

END:VCALENDAR
