BEGIN:VCALENDAR
VERSION:2.0
PRODID:-//ChamberMaster//Event Calendar 2.0//EN
METHOD:PUBLISH
X-PUBLISHED-TTL:P3D
REFRESH-INTERVAL:P3D
CALSCALE:GREGORIAN
BEGIN:VEVENT
DTSTART:20160822T150000Z
DTEND:20160826T233000Z
X-MICROSOFT-CDO-ALLDAYEVENT:FALSE
SUMMARY:Lean Six Sigma Level 1 Training - Business Excellence Enterprise\, provided by Radiology Associates
DESCRIPTION:Event Description:\n\n\nBusiness Excellence Enterprise (BEE) offers hands-on Lean Six Sigma training on the Central Coast.  BEE provides a comprehensive education of Radiology Associates' unique application of business excellence tools and techniques.  Participants will learn how to utilize Lean and Six Sigma tools and methods to make a major impact within their company\, industry\, and society. \n\n\n\nTraining Objectives:\n\nUpon successful completion of Level 1 and Level 2 training\, participants will be able to:\n\n  Demonstrate working knowledge of business excellence tools\n\n  Lead continuous improvement events in their respective businesses\n\n\n\nDifferentiating Features:\n\n  Utilize Google applications\n\n  Local training with minimal travel and expense\n\n  Ability to network with other local companies and share Lean Six Sigma experiences\n\n  Hands-on experience\n\n  Ability to participate in a Kaizen and learn how to run an event with hands-on experience\n\n  Meals provided\n\n  Small class sizes (10 to 1 - student teacher ratio)\n\n  Optional onsite support\n\n\n\nSummer 2016 Courses \n\n  Level 1 Training Options: 8:00am - 4:30pm \n\n  August 22 - 26\n\nMore information at http://www.beeimprovement.org/
X-ALT-DESC;FMTTYPE=text/html:<div style="background:none\; border:none\; padding:0px"><span style="font-size:12px"><span style="font-family:arial\,helvetica\,sans-serif">Event Description:</span></span></div>\n\n<div style="background:none\; border:none\; padding:0px">\n<div style="background:none\; border:none\; padding:0px\; text-align:inherit"><span style="font-size:12px"><span style="font-family:arial\,helvetica\,sans-serif"><span style="color:inherit"><span style="color:rgb(0\, 102\, 255)"><span style="color:inherit"><span style="color:inherit"><span style="color:inherit">Business Excellence Enterprise (BEE)&nbsp\;</span></span></span></span><span style="color:rgb(0\, 0\, 0)"><span style="color:inherit"><span style="color:inherit">offers hands-on Lean Six Sigma training on the Central Coast.&nbsp\; BEE provides a comprehensive education of Radiology Associates&#39\; unique application of business excellence tools and techniques.&nbsp\; Participants will learn how to utilize Lean and Six Sigma tools and methods to make a major impact within their company\, industry\, and society.&nbsp\;</span></span></span><br />\n<br />\n<span style="color:rgb(0\, 102\, 204)"><span style="color:inherit"><span style="color:inherit"><span style="color:inherit">Training Objectives:</span></span></span></span><br />\n<span style="color:rgb(0\, 0\, 0)"><span style="color:inherit"><span style="color:inherit">Upon successful completion of Level 1 and Level 2 training\, participants will be able to:<br />\n&middot\;&nbsp\;Demonstrate working knowledge of business excellence tools<br />\n&middot\;&nbsp\;Lead continuous improvement events in their respective businesses</span></span></span><br />\n<br />\n<span style="color:rgb(0\, 102\, 255)"><span style="color:inherit"><span style="color:inherit"><span style="color:inherit">Differentiating Features:</span></span></span></span><br />\n<span style="color:rgb(0\, 0\, 0)"><span style="color:inherit"><span style="color:inherit">&uml\;&nbsp\;Utilize Google applications<br />\n&uml\;&nbsp\;Local training with minimal travel and expense<br />\n&uml\;&nbsp\;Ability to network with other local companies and share Lean Six Sigma experiences<br />\n&uml\;&nbsp\;Hands-on experience<br />\n&uml\;&nbsp\;Ability to participate in a Kaizen and learn how to run an event with hands-on experience<br />\n&uml\;&nbsp\;Meals provided<br />\n&uml\;&nbsp\;Small class sizes (10 to 1 - student teacher ratio)</span></span></span><br />\n<span style="color:rgb(0\, 0\, 0)">&uml\;&nbsp\;</span><span style="color:rgb(0\, 0\, 0)"><span style="color:inherit"><span style="color:inherit">Optional onsite support</span></span></span><br />\n<br />\n<span style="color:rgb(0\, 102\, 255)"><span style="color:inherit"><span style="color:inherit"><span style="color:inherit">Summer 2016 Courses&nbsp\;</span></span></span></span><br />\n<span style="color:rgb(0\, 0\, 0)"><span style="color:inherit"><span style="color:inherit">&uml\;&nbsp\;<em><span style="color:inherit">Level 1 Training Options:</span></em>&nbsp\;8:00am - 4:30pm&nbsp\;<br />\n&uml\;&nbsp\;August 22 - 26</span></span></span></span></span></span>\n\n<p style="text-align:inherit"><span style="font-size:12px"><span style="font-family:arial\,helvetica\,sans-serif"><span style="color:inherit"><span style="color:rgb(0\, 0\, 0)"><span style="color:inherit"><span style="color:inherit">More information at&nbsp\;</span></span></span><span style="color:rgb(0\, 0\, 255)"><span style="color:inherit"><span style="color:inherit"><a href="http://www.beeimprovement.org/" style="bottom: auto\; box-sizing: content-box\; clear: none\; color: rgb(67\, 15\, 31)\; content: normal\; direction: inherit\; display: inline\; empty-cells: show\; float: none\; font-style: inherit\; font-variant: inherit\; font-weight: inherit\; font-stretch: inherit\; font-size: inherit\; font-family: inherit\; left: auto\; letter-spacing: inherit\; line-height: inherit\; margin: 0px\; max-height: none\; max-width: none\; min-height: initial\; min-width: initial\; opacity: 1\; outline: invert none medium\; outline-offset: 0px\; overflow: visible\; padding: 0px\; position: static\; resize: none\; right: auto\; table-layout: auto\; text-align: inherit\; text-decoration: none\; text-indent: inherit\; text-overflow: clip\; text-transform: inherit\; top: auto\; vertical-align: baseline\; visibility: inherit\; white-space: inherit\; word-break: inherit\; word-spacing: inherit\; word-wrap: break-word\; z-index: auto\; border: none\; border-collapse: separate\; border-image-source: none\; border-image-slice: 100% 1 0\; border-image-repeat: stretch\; border-radius: 0px\; height: auto\; width: auto\; box-shadow: none\; background: none\;" target="_blank">http://www.beeimprovement.org/</a></span></span></span></span></span></span></p>\n</div>\n</div>\n
LOCATION:Training is provided by Radiology Associates at their Templeton Administrative offices. More information at http://www.beeimprovement.org/
UID:e.2488.4819
SEQUENCE:3
DTSTAMP:20260424T134225Z
URL:https://pasorobleschamber-gzcms.preview.gochambermaster.com/events/details/lean-six-sigma-level-1-training-business-excellence-enterprise-provided-by-radiology-associates-08-22-2016-4819
END:VEVENT

END:VCALENDAR
