BEGIN:VCALENDAR
VERSION:2.0
PRODID:-//ChamberMaster//Event Calendar 2.0//EN
METHOD:PUBLISH
X-PUBLISHED-TTL:P3D
REFRESH-INTERVAL:P3D
CALSCALE:GREGORIAN
BEGIN:VEVENT
DTSTART;VALUE=DATE:20180316
DTEND;VALUE=DATE:20180317
TRANSP:TRANSPARENT
X-MICROSOFT-CDO-ALLDAYEVENT:TRUE
SUMMARY:LXV and Thomas Hill Organics Indian Fusion Winemaker Dinner
DESCRIPTION:Neeta Mittal\, proprietor of LXV Wines and executive Chef Kurt Metzger of Thomas Hill Organics have collaborated to create an Indian Inspired dinner that is not to be missed. There will be 5 Indian inspired courses paired with 5 of the LXV Wines. LXV Wines are hand-crafted California wines from Paso Robes which are made in the old world style\, minimlaist and authentic. LXV has received Best of Class at SF Chronicle and Gold at San Diego International Competition\, 90 points by Wine Enthusiast and great reviews by several Sommeliers.
X-ALT-DESC;FMTTYPE=text/html:<span style="color:rgb(102\, 106\, 115)\; font-family:benton sans\,-apple-system\,blinkmacsystemfont\,roboto\,helvetica neue\,helvetica\,tahoma\,arial\,sans-serif\; font-size:15px">Neeta Mittal\, proprietor of LXV Wines and executive Chef Kurt Metzger of Thomas Hill Organics have collaborated to create an Indian Inspired dinner that is not to be missed. There will be 5 Indian inspired courses paired with 5 of the LXV Wines. LXV Wines are hand-crafted California wines from Paso Robes which are made in the old world style\, minimlaist and authentic. LXV has received Best</span><span style="color:rgb(102\, 106\, 115)\; font-family:benton sans\,-apple-system\,blinkmacsystemfont\,roboto\,helvetica neue\,helvetica\,tahoma\,arial\,sans-serif\; font-size:15px">&nbsp\;of Class at SF Chronicle and Gold at San Diego International Competition\, 90 points by Wine Enthusiast and great reviews by several Sommeliers.</span><span style="color:rgb(102\, 106\, 115)\; font-family:benton sans\,-apple-system\,blinkmacsystemfont\,roboto\,helvetica neue\,helvetica\,tahoma\,arial\,sans-serif\; font-size:15px">&nbsp\;</span>
LOCATION:Thomas Hill Organics
UID:e.2488.7987
SEQUENCE:3
DTSTAMP:20260422T034907Z
URL:https://pasorobleschamber-gzcms.preview.gochambermaster.com/events/details/lxv-and-thomas-hill-organics-indian-fusion-winemaker-dinner-7987
END:VEVENT

END:VCALENDAR
