BEGIN:VCALENDAR
VERSION:2.0
PRODID:-//ChamberMaster//Event Calendar 2.0//EN
METHOD:PUBLISH
X-PUBLISHED-TTL:P3D
REFRESH-INTERVAL:P3D
CALSCALE:GREGORIAN
BEGIN:VEVENT
DTSTART:20161016T003000Z
DTEND:20161016T043000Z
X-MICROSOFT-CDO-ALLDAYEVENT:FALSE
SUMMARY:Opolo Harvest Dinner & Grape Stomp
DESCRIPTION:Roll up your pants and get ready to stomp! In between grape stomping\, folk dancing\, gypsy serenades\, and of course\, fabulous Opolo wine\, we will be treating you to some of Opolo's finest food. The menu will include whole roasted lamb\, Sarma\, chicken\, and all the extras. Tickets can be purchased online\, via phone on in the tasting room. $90 Members/ $110 Nonmembers
X-ALT-DESC;FMTTYPE=text/html:Roll up your pants and get ready to stomp! In between grape stomping\, folk dancing\, gypsy serenades\, and of course\, fabulous Opolo wine\, we will be treating you to some of Opolo&#39\;s finest food. The menu will include whole roasted lamb\, Sarma\, chicken\, and all the extras. Tickets can be purchased online\, via phone on in the tasting room. $90 Members/ $110 Nonmembers
LOCATION:7110 Vineyard Dr. Paso Robles\, CA 93446
UID:e.2488.4850
SEQUENCE:3
DTSTAMP:20260424T051823Z
URL:https://pasorobleschamber-gzcms.preview.gochambermaster.com/events/details/opolo-harvest-dinner-grape-stomp-10-15-2016-4850
END:VEVENT

END:VCALENDAR
