BEGIN:VCALENDAR
VERSION:2.0
PRODID:-//ChamberMaster//Event Calendar 2.0//EN
METHOD:PUBLISH
X-PUBLISHED-TTL:P3D
REFRESH-INTERVAL:P3D
CALSCALE:GREGORIAN
BEGIN:VEVENT
DTSTART:20161104T013000Z
DTEND:20161104T043000Z
X-MICROSOFT-CDO-ALLDAYEVENT:FALSE
SUMMARY:Paderewski Festival
DESCRIPTION:Opening night of Paderewski Festival\, featuring Tomines Ensemble\, guitar and violin music by Paderewski\, Piazzola\, Ryterband and Tansman.
X-ALT-DESC;FMTTYPE=text/html:Opening night of Paderewski Festival\, featuring Tomines Ensemble\, guitar and violin music by Paderewski\, Piazzola\, Ryterband and Tansman.
LOCATION:Cass Winery\, 7350 Linne Road\, Paso Robles
UID:e.2488.5622
SEQUENCE:3
DTSTAMP:20260424T051852Z
URL:https://pasorobleschamber-gzcms.preview.gochambermaster.com/events/details/paderewski-festival-5622
END:VEVENT

END:VCALENDAR
