BEGIN:VCALENDAR
VERSION:2.0
PRODID:-//ChamberMaster//Event Calendar 2.0//EN
METHOD:PUBLISH
X-PUBLISHED-TTL:P3D
REFRESH-INTERVAL:P3D
CALSCALE:GREGORIAN
BEGIN:VEVENT
DTSTART:20150616T143000Z
DTEND:20150616T160000Z
X-MICROSOFT-CDO-ALLDAYEVENT:FALSE
SUMMARY:PASO ROBLES CHAMBER Wake Up Paso Breakfast at Culinary Academy
DESCRIPTION:Join the Paso Robles Chamber and its members for another fast-paced morning.  \nWake Up Paso Breakfast is set for June 16th beginning at 7:30am at the Paso Robles Arts Academy. The event offers time to network before launching into a fast-paced program of thought provoking\, educational and sometimes controversial topics.\n\nSeminar Topics:\n- Fracking\, Both Sides of the Story\n- Millennials Are Coming to the Workplace. Are you ready?\n- Fire Season and How Technology is Changing the Way We Fight Fires?\n\nSeating is Limited!  $20 Chamber Members/  $30 Non-Members. \nRegistration Deadline:  6/11/15   REGISTER NOW! \n\nFor more information\, contact Julie Matthews\, Communications Manager\, at 805.227.1267 or call 805.238.0506.
X-ALT-DESC;FMTTYPE=text/html:<p><span style="font:11px/normal tahoma\;text-align:left\;color:#7e7e7e\;text-transform:none\;text-indent:0px\;letter-spacing:normal\;word-spacing:0px\;white-space:normal\;widows:1\;background-color:#ffffff\;-webkit-text-stroke-width:0px\;">Join</span><span style="font:12px/normal tahoma\;text-align:left\;color:#7e7e7e\;text-transform:none\;text-indent:0px\;letter-spacing:normal\;word-spacing:0px\;white-space:normal\;widows:1\;background-color:#ffffff\;-webkit-text-stroke-width:0px\;"><span style="font-size:11px\;"><span style="font-size:11px\;"><span class="Apple-converted-space">&nbsp\;</span>the Paso Robles Chamber and its members for another fast-paced morning.&nbsp\;<span class="Apple-converted-space">&nbsp\;</span><br />Wake Up Paso Breakfast is set for June 16th beginning at 7:30am at the Paso Robles Arts Academy. The event offers time to network before&nbsp\;launching into a fast-paced&nbsp\;program of thought provoking\, educational and sometimes controversial topics.<br /><br /></span><strong><strong><span style="color:#549dbd\;font-family:tahoma\;">Seminar Topics:</span></strong></strong><br />-<span class="Apple-converted-space">&nbsp\;</span><strong>Fracking\, Both Sides of the Story<br />- Millennials Are Coming to the Workplace. Are you ready?<br />- Fire Season and How Technology is Changing the Way We Fight Fires?</strong><br /><br />Seating is Limited!&nbsp\; $20 Chamber Members/&nbsp\; $30 Non-Members.&nbsp\;<br /><strong><span style="color:#549dbd\;">Registration Deadline:&nbsp\; 6/11/15&nbsp\;&nbsp\;<span class="Apple-converted-space">&nbsp\;</span></span></strong></span><strong><span style="color:#549dbd\;font-family:tahoma\;"><a href="https://pasoroblescacoc.wliinc18.com/events/PASO-ROBLES-CHAMBER-Wake-Up-Paso-Breakfast-at-Culinary-Academy-4271/register" style="color:#559cbe\;text-decoration:none\;" target="_blank"><strong><span style="color:#549dbd\;font-family:tahoma\;">REGISTER NOW!</span></strong></a>&nbsp\;</span></strong></span><br style="font:11px/normal tahoma\;text-align:left\;color:#7e7e7e\;text-transform:none\;text-indent:0px\;letter-spacing:normal\;word-spacing:0px\;white-space:normal\;widows:1\;background-color:#ffffff\;-webkit-text-stroke-width:0px\;" /><br style="font:11px/normal tahoma\;text-align:left\;color:#7e7e7e\;text-transform:none\;text-indent:0px\;letter-spacing:normal\;word-spacing:0px\;white-space:normal\;widows:1\;background-color:#ffffff\;-webkit-text-stroke-width:0px\;" /><span style="font:11px/normal tahoma\;text-align:left\;color:#7e7e7e\;text-transform:none\;text-indent:0px\;letter-spacing:normal\;word-spacing:0px\;float:none\;display:inline !important\;white-space:normal\;widows:1\;background-color:#ffffff\;-webkit-text-stroke-width:0px\;">For more information\, contact&nbsp\;</span><a href="mailto:marketing@apasorobleschamber.com" style="font:11px/normal tahoma\;text-align:left\;color:#559cbe\;text-transform:none\;text-indent:0px\;letter-spacing:normal\;text-decoration:none\;word-spacing:0px\;white-space:normal\;widows:1\;background-color:#ffffff\;-webkit-text-stroke-width:0px\;">Julie Matthews</a><span style="font:11px/normal tahoma\;text-align:left\;color:#7e7e7e\;text-transform:none\;text-indent:0px\;letter-spacing:normal\;word-spacing:0px\;float:none\;display:inline !important\;white-space:normal\;widows:1\;background-color:#ffffff\;-webkit-text-stroke-width:0px\;">\, Communications Manager\, at 805.227.1267 or call 805.238.0506.</span></p>
LOCATION:Paso Robles Culinary Academy 1900 Golden Hill Road\, Paso Robles\, CA 93446
UID:e.2488.4271
SEQUENCE:3
DTSTAMP:20260425T170105Z
URL:https://pasorobleschamber-gzcms.preview.gochambermaster.com/events/details/paso-robles-chamber-wake-up-paso-breakfast-at-culinary-academy-06-16-2015-4271
END:VEVENT

END:VCALENDAR
