BEGIN:VCALENDAR
VERSION:2.0
PRODID:-//ChamberMaster//Event Calendar 2.0//EN
METHOD:PUBLISH
X-PUBLISHED-TTL:P3D
REFRESH-INTERVAL:P3D
CALSCALE:GREGORIAN
BEGIN:VEVENT
DTSTART:20170320T190000Z
DTEND:20170320T200000Z
X-MICROSOFT-CDO-ALLDAYEVENT:FALSE
SUMMARY:Paso Robles Republican Women Federated Monthly Luncheon Meeting with Special Guest Speaker\, District Attorney\, Dan Dow. Guests Welcome!
DESCRIPTION:Guest Speaker\, Dan Dow\, District Attorney. He will discuss the ramifications of the passage of Prop 57 which allows for the early release from prison of certain "non-violent" criminals and will address the issue of human trafficking.
X-ALT-DESC;FMTTYPE=text/html:Guest Speaker\, Dan Dow\, District Attorney. He will discuss the ramifications of the passage of Prop 57 which allows for the early release from prison of certain &quot\;non-violent&quot\; criminals and will address the issue of human trafficking.
LOCATION:Paso Robles Inn Ballroom\, 1103 Spring St. Paso Robles
UID:e.2488.6099
SEQUENCE:3
DTSTAMP:20260423T232530Z
URL:https://pasorobleschamber-gzcms.preview.gochambermaster.com/events/details/paso-robles-republican-women-federated-monthly-luncheon-meeting-with-special-guest-speaker-district-attorney-dan-dow-guests-welcome-6099
END:VEVENT

END:VCALENDAR
