BEGIN:VCALENDAR
VERSION:2.0
PRODID:-//ChamberMaster//Event Calendar 2.0//EN
METHOD:PUBLISH
X-PUBLISHED-TTL:P3D
REFRESH-INTERVAL:P3D
CALSCALE:GREGORIAN
BEGIN:VEVENT
DTSTART:20160522T003000Z
DTEND:20160522T030000Z
X-MICROSOFT-CDO-ALLDAYEVENT:FALSE
SUMMARY:Phoebe Apperson Hearst: Teacher\, Mother\, Builder Exhibition Opening Reception
DESCRIPTION:Enjoy light hors d'oeuvres\, champagne and wine from Hearst Ranch Winery before a lecture and musical performance that captures the spirit of Phoebe Hearst's elegant musicales.
X-ALT-DESC;FMTTYPE=text/html:Enjoy light hors d&#39\;oeuvres\, champagne and wine from Hearst Ranch Winery before a lecture and musical performance that captures the spirit of Phoebe Hearst&#39\;s elegant musicales.
LOCATION:Hearst Castle Visitor Center
UID:e.2488.4687
SEQUENCE:3
DTSTAMP:20260424T154107Z
URL:https://pasorobleschamber-gzcms.preview.gochambermaster.com/events/details/phoebe-apperson-hearst-teacher-mother-builder-exhibition-opening-reception-05-21-2016-4687
END:VEVENT

END:VCALENDAR
