BEGIN:VCALENDAR
VERSION:2.0
PRODID:-//ChamberMaster//Event Calendar 2.0//EN
METHOD:PUBLISH
X-PUBLISHED-TTL:P3D
REFRESH-INTERVAL:P3D
CALSCALE:GREGORIAN
BEGIN:VEVENT
DTSTART:20160622T003000Z
DTEND:20160622T023000Z
X-MICROSOFT-CDO-ALLDAYEVENT:FALSE
SUMMARY:Rhone Rangers Hot Tuesday Night at Eberle Winery
DESCRIPTION:Celebrate summer with a white Rhone wine tasting with 25 Paso Robles Rhone Ranger wineries!  Small bites and artisan cheese pairings plus live music complete this Hot Tuesday Night Varietal Night at Eberle Winery!
X-ALT-DESC;FMTTYPE=text/html:Celebrate summer with a white Rhone wine tasting with 25 Paso Robles Rhone Ranger wineries!&nbsp\; Small bites and artisan cheese pairings plus live music complete this Hot Tuesday Night Varietal Night at Eberle Winery!
LOCATION:Eberle Winery 3810 Highway 46 East Paso Robles\, CA 93446
UID:e.2488.4777
SEQUENCE:3
DTSTAMP:20260424T144033Z
URL:https://pasorobleschamber-gzcms.preview.gochambermaster.com/events/details/rhone-rangers-hot-tuesday-night-at-eberle-winery-06-21-2016-4777
END:VEVENT

END:VCALENDAR
