BEGIN:VCALENDAR
VERSION:2.0
PRODID:-//ChamberMaster//Event Calendar 2.0//EN
METHOD:PUBLISH
X-PUBLISHED-TTL:P3D
REFRESH-INTERVAL:P3D
CALSCALE:GREGORIAN
BEGIN:VEVENT
DTSTART:20181129T003000Z
DTEND:20181129T033000Z
X-MICROSOFT-CDO-ALLDAYEVENT:FALSE
SUMMARY:SLO County Builders Exchange - Grand Opening Ribbon Cutting with PR & Atascadero Chambers
DESCRIPTION:New Conference Room & Grand Opening Ribbon Cutting Ceremony \n\nat SLO County Builders Exchange -North Office on Nov 28th\, 2018.\n\n\n\nPlease join us & take a tour to our NEW conference room! We look forward to showing you our North County meeting site for Seminars\, Workshops and Saftey Classes.  This will be available for rental. \n\n\n\nPlease RSVP at 805-460-9670 or email northoffice@slocbe.com
X-ALT-DESC;FMTTYPE=text/html:New Conference Room &amp\; Grand Opening Ribbon Cutting Ceremony&nbsp\;<br />\nat SLO County Builders Exchange -North Office on Nov 28th\, 2018.<br />\n<br />\nPlease join us &amp\; take a tour to our NEW conference room! We look forward to showing you our North County meeting site for Seminars\, Workshops and Saftey Classes.&nbsp\; This will be available for rental.&nbsp\;<br />\n<br />\nPlease RSVP at 805-460-9670 or email northoffice@slocbe.com&nbsp\;<br />\n<br />\n<br />\n&nbsp\;
LOCATION:4851 El Camino Real Atascadero\, CA 93422
UID:e.2488.9592
SEQUENCE:3
DTSTAMP:20260421T065341Z
URL:https://pasorobleschamber-gzcms.preview.gochambermaster.com/events/details/slo-county-builders-exchange-grand-opening-ribbon-cutting-with-pr-atascadero-chambers-9592
END:VEVENT

END:VCALENDAR
