BEGIN:VCALENDAR
VERSION:2.0
PRODID:-//ChamberMaster//Event Calendar 2.0//EN
METHOD:PUBLISH
X-PUBLISHED-TTL:P3D
REFRESH-INTERVAL:P3D
CALSCALE:GREGORIAN
BEGIN:VEVENT
DTSTART:20170821T020000Z
DTEND:20170821T040000Z
X-MICROSOFT-CDO-ALLDAYEVENT:FALSE
SUMMARY:Symphony at Sunset: Pops Under the Stars
DESCRIPTION:Vina Robles Amphitheatre is proud to host SYMPHONY AT SUNSET for a second consecutive year\, featuring four acclaimed vocalists accompanied by the Opera San Luis Obispo Grand Orchestra for an evening performance of symphonic pops under the stars. Conducted by OperaSLO Artistic Director Brian Asher Alhadeff\, this family-friendly program will star soloists Gregorio Gonzalez\, Karin Mushegain\, Julie Davies and Alba Franco-Canc l and include familiar classics\, current favorites\, Hollywood hits and Broadway tunes from James Bond to Oklahoma!\, and more. The evening will also include a special Veterans honor enacted by the Central Coast Leatherneck Color Guard.\n\n\n\nKids 16 and under are free with adult tickets!
X-ALT-DESC;FMTTYPE=text/html:<span style="color:rgb(133\, 133\, 133)\; font-family:open-sans\,sans-serif\; font-size:15px">Vina Robles Amphitheatre is proud to host&nbsp\;</span><em>SYMPHONY AT SUNSET</em><span style="color:rgb(133\, 133\, 133)\; font-family:open-sans\,sans-serif\; font-size:15px">&nbsp\;for a second consecutive year\, featuring four acclaimed vocalists accompanied by the Opera San Luis Obispo Grand Orchestra for an evening performance of symphonic pops under the stars. Conducted by OperaSLO Artistic Director Brian Asher Alhadeff\, this family-friendly program will star soloists Gregorio Gonzalez\, Karin Mushegain\, Julie Davies and Alba Franco-Canc&eacute\;l and include familiar classics\, current favorites\, Hollywood hits and Broadway tunes from James Bond to&nbsp\;</span><em>Oklahoma!</em><span style="color:rgb(133\, 133\, 133)\; font-family:open-sans\,sans-serif\; font-size:15px">\, and more. The evening will also include a special Veterans honor enacted by the Central Coast Leatherneck Color Guard.<br />\n<br />\nKids 16 and under are free with adult tickets!</span>
LOCATION:Vina Robles Amphitheatre 3800 Mill Road Paso Robles\, CA 93446
UID:e.2488.6598
SEQUENCE:3
DTSTAMP:20260423T163457Z
URL:https://pasorobleschamber-gzcms.preview.gochambermaster.com/events/details/symphony-at-sunset-pops-under-the-stars-6598
END:VEVENT

END:VCALENDAR
