BEGIN:VCALENDAR
VERSION:2.0
PRODID:-//ChamberMaster//Event Calendar 2.0//EN
METHOD:PUBLISH
X-PUBLISHED-TTL:P3D
REFRESH-INTERVAL:P3D
CALSCALE:GREGORIAN
BEGIN:VEVENT
DTSTART:20190314T200000Z
DTEND:20190314T230000Z
X-MICROSOFT-CDO-ALLDAYEVENT:FALSE
SUMMARY:Uncrushable with Chef/Filmmaker Tyler Florence
DESCRIPTION:Late in the evening of Sunday\, Oct. 8th\, 2017\, a series of wildfires ignited Northern California's beloved wine country. Shocked residents who lost homes and businesses\, first responders\, chefs and winemakers share their harrowing accounts while the fallen community begins to rebuild. On Nov. 21\, one very long table was set in a vineyard\, on the Napa-Sonoma border\, to bring together 500 community members\, first responders and fire victims for a harvest lunch and fundraiser\, spearheaded by "Uncrushable" director\, Chef Tyler Florence\, event coordinators and caterers.\n\n \n\nMeet Tyler Florence in San Luis Obispo at a reception at the Fremont Theatre at 1pm\, hosted by The Downtown Wineries of Paso Robles. The downtown wineries will be pouring varietals in honor of the Napa-Sonoma Wineries: Chardonnays\, Cabernet Sauvignon\, Merlots and Pinot Noirs amongst other varietals. Wine tasting is included in the price of the movie ticket. The screening of Uncrushable will begin at 2pm.
X-ALT-DESC;FMTTYPE=text/html:<span style="color:#373737"><span style="font-family:helvetica\,sans-serif"><span style="font-size:11.5pt">Late in the evening of Sunday\, Oct. 8th\, 2017\, a series of wildfires ignited Northern California&rsquo\;s beloved wine country. Shocked residents who lost homes and businesses\, first responders\, chefs and winemakers share their harrowing accounts while the fallen community begins to rebuild. On Nov. 21\, one very long table was set in a vineyard\, on the Napa-Sonoma border\, to bring together 500 community members\, first responders and fire victims for a harvest lunch and fundraiser\, spearheaded by &ldquo\;Uncrushable&rdquo\; director\, Chef Tyler Florence\, event coordinators and caterers.</span></span></span><br />\n&nbsp\;<br />\n<span style="color:#373737"><span style="font-family:helvetica\,sans-serif"><span style="font-size:11.5pt">Meet Tyler Florence in San Luis Obispo&nbsp\;at a reception at the Fremont Theatre at 1pm\, hosted by&nbsp\;The Downtown Wineries of Paso Robles. </span></span></span><span style="color:#373737"><span style="font-family:helvetica\,sans-serif"><span style="font-size:11.5pt">The downtown wineries will be pouring varietals in honor of the Napa-Sonoma Wineries: Chardonnays\, Cabernet Sauvignon\, Merlots and&nbsp\;Pinot Noirs amongst other varietals. Wine tasting is included in the price of the movie ticket. The screening of Uncrushable will begin at 2pm.&nbsp\;</span></span></span>
LOCATION:Fremont Theatre
UID:e.2488.9807
SEQUENCE:3
DTSTAMP:20260420T230118Z
URL:https://pasorobleschamber-gzcms.preview.gochambermaster.com/events/details/uncrushable-with-chef-filmmaker-tyler-florence-9807
END:VEVENT

END:VCALENDAR
