BEGIN:VCALENDAR
VERSION:2.0
PRODID:-//ChamberMaster//Event Calendar 2.0//EN
METHOD:PUBLISH
X-PUBLISHED-TTL:P3D
REFRESH-INTERVAL:P3D
CALSCALE:GREGORIAN
BEGIN:VEVENT
DTSTART:20160214T023000Z
DTEND:20160214T050000Z
X-MICROSOFT-CDO-ALLDAYEVENT:FALSE
SUMMARY:Valentine's Day Winemaker's Dinner & Vertical Cabernet Tasting
DESCRIPTION:Enjoy a splendid Valentine's Day Winemaker's Dinner on Saturday\, February 13th at 6:30pm. A spectacular five course dinner prepared by Trumpet Vine Catering and paired with Mitchella wine. We will be providing a unique wine tasting experience: a Vertical Tasting of our Estate Cabernet Sauvignon\, vintages 2003 through 2012. Tickets are $135 pp\, $110 pp for wine club members. Menu to follow. Seating is limited so don't delay! RSVP online at mitchella.com or by calling 805.239.8555.
X-ALT-DESC;FMTTYPE=text/html:Enjoy a splendid Valentine&#39\;s Day Winemaker&#39\;s Dinner on Saturday\, February 13th at 6:30pm. A spectacular five course dinner prepared by Trumpet Vine Catering and paired with Mitchella wine. We will be providing a unique wine tasting experience: a Vertical Tasting of our Estate Cabernet Sauvignon\, vintages 2003 through 2012. Tickets are $135 pp\, $110 pp for wine club members. Menu to follow. Seating is limited so don&#39\;t delay! RSVP online at mitchella.com or by calling 805.239.8555.
LOCATION:2525 Mitchell Ranch Way\, Paso Robles\, CA 93446 Mitchella Vineyard & Winery
UID:e.2488.4482
SEQUENCE:3
DTSTAMP:20260424T193606Z
URL:https://pasorobleschamber-gzcms.preview.gochambermaster.com/events/details/valentine-s-day-winemaker-s-dinner-vertical-cabernet-tasting-02-13-2016-4482
END:VEVENT

END:VCALENDAR
