BEGIN:VCALENDAR
VERSION:2.0
PRODID:-//ChamberMaster//Event Calendar 2.0//EN
METHOD:PUBLISH
X-PUBLISHED-TTL:P3D
REFRESH-INTERVAL:P3D
CALSCALE:GREGORIAN
BEGIN:VEVENT
DTSTART;VALUE=DATE:20160318
DTEND;VALUE=DATE:20160321
TRANSP:TRANSPARENT
X-MICROSOFT-CDO-ALLDAYEVENT:TRUE
SUMMARY:Vintage Paso: Zinfandel Weekend
DESCRIPTION:Enjoy the wine that put us on the map\, Zinfandel\, the first variety planted in Paso back in the 1880's. Celebrate Vintage Paso: Zinfandel Weekend\, March 18- 20. The Zinposium seminar is back\, plus a new Z-Nightcap After Party and movie screening of SOMM: Into the Bottle. Plus\, create your own zinful itinerary to smell\, sip and savor the heritage of Paso Robles\, with events at more than 140 wineries! Visit www.pasowine.com for tickets and more details.
X-ALT-DESC;FMTTYPE=text/html:Enjoy the wine that put us on the map\, Zinfandel\, the first variety planted in Paso back in the 1880&#39\;s. Celebrate Vintage Paso: Zinfandel Weekend\, March 18- 20. The Zinposium seminar is back\, plus a new Z-Nightcap After Party and movie screening of SOMM: Into the Bottle. Plus\, create your own zinful itinerary to smell\, sip and savor the heritage of Paso Robles\, with events at more than 140 wineries! Visit www.pasowine.com for tickets and more details.
LOCATION:Various locations in Paso Robles
UID:e.2488.4562
SEQUENCE:3
DTSTAMP:20260424T193624Z
URL:https://pasorobleschamber-gzcms.preview.gochambermaster.com/events/details/vintage-paso-zinfandel-weekend-03-18-2016-4562
END:VEVENT

END:VCALENDAR
