BEGIN:VCALENDAR
VERSION:2.0
PRODID:-//ChamberMaster//Event Calendar 2.0//EN
METHOD:PUBLISH
X-PUBLISHED-TTL:P3D
REFRESH-INTERVAL:P3D
CALSCALE:GREGORIAN
BEGIN:VEVENT
DTSTART:20160330T143000Z
DTEND:20160330T160000Z
X-MICROSOFT-CDO-ALLDAYEVENT:FALSE
SUMMARY:Wake Up Paso
DESCRIPTION:Join us for breakfast\, networking\, and expert speakers!\n\nMarch 30th from 7:30am to 9am.\n\n\n\nThis month's speakers are:\n\n\n\nJennifer Langstaff\, Legacy Retirement Advisors\n\nJennifer has been in the financial industry for over 20 years. She is a believer in financial education and has been seen and heard on KSBY\, KPRL\, Paso Robles Magazine\, Paso Robles Press\, and more. She will touch on salary and retirement options for business owners\, and the new 2015 tax law on IRA Rollovers\, including how to avoid a huge tax pitfall mistake.\n\n\n\nJulie Dahlen\, City of Paso Robles\n\nCity Park Project Update\n\nJulie Dahlen is a native Californian and has been working for the City of Paso Robles since 1995. During her tenure\, she has been involved in a variety of community projects.\, including the current renovations of the City Park.\n\n\n\nHope Cornejo\, American Business Machines\n\nThe Cartridge Family\n\nHope Cornejo has been in the office equipment industry since 1993. She will be speaking on the differences between a toner based printer and a cartridge based printer\, and which is best for you and/or your business.\n\n\n\nNon-Profit News: Melanie Barket from CASA of SLO County will be sharing information about their collaboration with must! Charities.\n\n\n\nPaso Robles Inn Ballroom\n\n1103 Spring Street\, Paso Robles\n\n\n\n$20/member\, $25/non-member
X-ALT-DESC;FMTTYPE=text/html:<span style="color: rgb(78\, 86\, 101)\; font-family: helvetica\, arial\, sans-serif\; font-size: 14px\; line-height: 18.76px\;">Join us for breakfast\, networking\, and expert speakers!</span><br style="color: rgb(78\, 86\, 101)\; font-family: helvetica\, arial\, sans-serif\; font-size: 14px\; line-height: 18.76px\;" />\n<span style="color: rgb(78\, 86\, 101)\; font-family: helvetica\, arial\, sans-serif\; font-size: 14px\; line-height: 18.76px\;">March 30th from 7:30am to 9am.</span><br style="color: rgb(78\, 86\, 101)\; font-family: helvetica\, arial\, sans-serif\; font-size: 14px\; line-height: 18.76px\;" />\n<br style="color: rgb(78\, 86\, 101)\; font-family: helvetica\, arial\, sans-serif\; font-size: 14px\; line-height: 18.76px\;" />\n<span style="color: rgb(78\, 86\, 101)\; font-family: helvetica\, arial\, sans-serif\; font-size: 14px\; line-height: 18.76px\;">This month&#39\;s speakers are:</span><br style="color: rgb(78\, 86\, 101)\; font-family: helvetica\, arial\, sans-serif\; font-size: 14px\; line-height: 18.76px\;" />\n<br style="color: rgb(78\, 86\, 101)\; font-family: helvetica\, arial\, sans-serif\; font-size: 14px\; line-height: 18.76px\;" />\n<span style="color: rgb(78\, 86\, 101)\; font-family: helvetica\, arial\, sans-serif\; font-size: 14px\; line-height: 18.76px\;">Jennifer Langstaff\, Legacy Retirement Advisors</span><br style="color: rgb(78\, 86\, 101)\; font-family: helvetica\, arial\, sans-serif\; font-size: 14px\; line-height: 18.76px\;" />\n<span style="color: rgb(78\, 86\, 101)\; font-family: helvetica\, arial\, sans-serif\; font-size: 14px\; line-height: 18.76px\;">Jennifer has been in the financial industry for over 20 years. She is a believer in financial education and has been seen and heard on KSBY\, KPRL\, Paso Robles Magazine\, Paso Robles Press\, and more. She will touch on salary and retirement options for business owners\, and the new 2015 tax law on IRA Rollovers\, including how to avoid a huge tax pitfall mistake.</span><br style="color: rgb(78\, 86\, 101)\; font-family: helvetica\, arial\, sans-serif\; font-size: 14px\; line-height: 18.76px\;" />\n<br style="color: rgb(78\, 86\, 101)\; font-family: helvetica\, arial\, sans-serif\; font-size: 14px\; line-height: 18.76px\;" />\n<span style="color: rgb(78\, 86\, 101)\; font-family: helvetica\, arial\, sans-serif\; font-size: 14px\; line-height: 18.76px\;">Julie Dahlen\, City of Paso Robles</span><br style="color: rgb(78\, 86\, 101)\; font-family: helvetica\, arial\, sans-serif\; font-size: 14px\; line-height: 18.76px\;" />\n<span style="color: rgb(78\, 86\, 101)\; font-family: helvetica\, arial\, sans-serif\; font-size: 14px\; line-height: 18.76px\;">City Park Project Update</span><br style="color: rgb(78\, 86\, 101)\; font-family: helvetica\, arial\, sans-serif\; font-size: 14px\; line-height: 18.76px\;" />\n<span style="color: rgb(78\, 86\, 101)\; font-family: helvetica\, arial\, sans-serif\; font-size: 14px\; line-height: 18.76px\;">Julie Dahlen is a native Californian and has been working for the City of Paso Robles since 1995. During her tenure\, she has been involv</span><span class="text_exposed_show" style="display: inline\; color: rgb(78\, 86\, 101)\; font-family: helvetica\, arial\, sans-serif\; font-size: 14px\; line-height: 18.76px\;">ed in a variety of community projects.\, including the current renovations of the City Park.<br />\n<br />\nHope Cornejo\, American Business Machines<br />\nThe Cartridge Family<br />\nHope Cornejo has been in the office equipment industry since 1993. She will be speaking on the differences between a toner based printer and a cartridge based printer\, and which is best for you and/or your business.<br />\n<br />\nNon-Profit News: Melanie Barket from CASA of SLO County will be sharing information about their collaboration with must! Charities.<br />\n<br />\nPaso Robles Inn Ballroom<br />\n1103 Spring Street\, Paso Robles<br />\n<br />\n$20/member\, $25/non-member</span>
LOCATION:Paso Robles Inn Ballroom 1103 Spring Street Paso Robles\, CA
UID:e.2488.4490
SEQUENCE:3
DTSTAMP:20260425T004246Z
URL:https://pasorobleschamber-gzcms.preview.gochambermaster.com/events/details/wake-up-paso-03-30-2016-4490
END:VEVENT

END:VCALENDAR
