BEGIN:VCALENDAR
VERSION:2.0
PRODID:-//ChamberMaster//Event Calendar 2.0//EN
METHOD:PUBLISH
X-PUBLISHED-TTL:P3D
REFRESH-INTERVAL:P3D
CALSCALE:GREGORIAN
BEGIN:VEVENT
DTSTART;VALUE=DATE:20170521
DTEND;VALUE=DATE:20170522
TRANSP:TRANSPARENT
X-MICROSOFT-CDO-ALLDAYEVENT:TRUE
SUMMARY:Wine Festival Sunday at Summerwood - Blending Demonstration
DESCRIPTION:Ever wondered what goes into the process of blending wine? Join Winemaker Mauricio Marchant for a special blending demonstration where he'll walk you through the process of creating "Sentio\," our flagship Bordeaux blend. Demonstrations will begin at 11 AM and 2 PM.
X-ALT-DESC;FMTTYPE=text/html:<span style="font-family:calibri\,sans-serif"><span style="font-size:11.0pt">Ever wondered what goes into the process of blending wine? Join Winemaker Mauricio Marchant for a special blending demonstration where he&#39\;ll walk you through the process of creating &quot\;Sentio\,&quot\; our flagship Bordeaux blend. Demonstrations will begin at 11 AM and 2 PM.</span></span>
LOCATION:Summerwood Winery & Inn
UID:e.2488.6451
SEQUENCE:3
DTSTAMP:20260423T174348Z
URL:https://pasorobleschamber-gzcms.preview.gochambermaster.com/events/details/wine-festival-sunday-blending-demonstration-6451
END:VEVENT

END:VCALENDAR
