BEGIN:VCALENDAR
VERSION:2.0
PRODID:-//ChamberMaster//Event Calendar 2.0//EN
METHOD:PUBLISH
X-PUBLISHED-TTL:P3D
REFRESH-INTERVAL:P3D
CALSCALE:GREGORIAN
BEGIN:VEVENT
DTSTART:20150220T193000Z
DTEND:20150220T210000Z
X-MICROSOFT-CDO-ALLDAYEVENT:FALSE
SUMMARY:Women in Business February Luncheon
DESCRIPTION:The Women in Business February Luncheon will be held February 20\, 2015.Neeta Mittal from LXV Winery will be our featured speaker. More details to come!
X-ALT-DESC;FMTTYPE=text/html:<p>The Women in Business February Luncheon will be held February 20\, 2015.</p><p>Neeta Mittal from LXV Winery will be our featured speaker. More details to come!</p><p></p>
LOCATION:\, \,
UID:e.2488.4065
SEQUENCE:3
DTSTAMP:20260425T154037Z
URL:https://pasorobleschamber-gzcms.preview.gochambermaster.com/events/details/women-in-business-february-luncheon-02-20-2015-4065
END:VEVENT

END:VCALENDAR
